BEGIN:VCALENDAR
VERSION:2.0
CALSCALE:GREGORIAN
PRODID:-//Diputació de Barcelona//DibaCMS//EN
BEGIN:VEVENT
UID:23012
DTSTAMP:20260423T165552
DTSTART:20240518T190000
DTEND:20240518T190000
SUMMARY:XXVI Festa Major de Santa Rita: Havaneres
LOCATION:
METHOD:PUBLISH
X-WR-CALNAME:comunicacio@castellbisbal.cat
X-WR-TIMEZONE:Europe/Madrid
DESCRIPTION:A les 19.00 hores, al carrer de Santa Rita.

URI:https://www.castellbisbal.cat/actualitat/agenda/xxvi-festa-major-de-santa-rita-havaneres.html
CLASS:PUBLIC
END:VEVENT
END:VCALENDAR
