BEGIN:VCALENDAR
VERSION:2.0
CALSCALE:GREGORIAN
PRODID:-//Diputació de Barcelona//DibaCMS//EN
BEGIN:VEVENT
UID:23013
DTSTAMP:20260423T230513
DTSTART:20240518T213000
DTEND:20240518T213000
SUMMARY:XXVI Festa Major de Santa Rita: Sopar improvisat
LOCATION:
METHOD:PUBLISH
X-WR-CALNAME:comunicacio@castellbisbal.cat
X-WR-TIMEZONE:Europe/Madrid
DESCRIPTION:A les 21.30 hores, al carrer de Santa Rita.

URI:https://www.castellbisbal.cat/actualitat/agenda/xxvi-festa-major-de-santa-rita-sopar-improvisat.html
CLASS:PUBLIC
END:VEVENT
END:VCALENDAR
