BEGIN:VCALENDAR
VERSION:2.0
CALSCALE:GREGORIAN
PRODID:-//Diputació de Barcelona//DibaCMS//EN
BEGIN:VEVENT
UID:23014
DTSTAMP:20260423T013759
DTSTART:20240519T120000
DTEND:20240519T120000
SUMMARY:XXVI Festa Major de Santa Rita: Missa
LOCATION:
METHOD:PUBLISH
X-WR-CALNAME:comunicacio@castellbisbal.cat
X-WR-TIMEZONE:Europe/Madrid
DESCRIPTION:A les 12.00 hores, al carrer de Santa Rita.

URI:https://www.castellbisbal.cat/actualitat/agenda/xxvi-festa-major-de-santa-rita-missa.html
CLASS:PUBLIC
END:VEVENT
END:VCALENDAR
