BEGIN:VCALENDAR
VERSION:2.0
CALSCALE:GREGORIAN
PRODID:-//Diputació de Barcelona//DibaCMS//EN
BEGIN:VEVENT
UID:23016
DTSTAMP:20260423T014114
DTSTART:20240525T120000
DTEND:20240525T120000
SUMMARY:Hora del conte: Amb gust de mar Carib
LOCATION:Av. de Pau Casals, 16 08755 Castellbisbal
METHOD:PUBLISH
X-WR-CALNAME:comunicacio@castellbisbal.cat
X-WR-TIMEZONE:Europe/Madrid
DESCRIPTION:A les 12.00 hores, a la Biblioteca Josep Mateu i Miró.

URI:https://www.castellbisbal.cat/actualitat/agenda/biblioteca/23016-hora-del-conte-amb-gust-de-mar-carib.html
CLASS:PUBLIC
END:VEVENT
END:VCALENDAR
