BEGIN:VCALENDAR
VERSION:2.0
CALSCALE:GREGORIAN
PRODID:-//Diputació de Barcelona//DibaCMS//EN
BEGIN:VEVENT
UID:23030
DTSTAMP:20260424T222116
DTSTART:20240531T170000
DTEND:20240531T170000
SUMMARY:Corretapes 2024: Cantada amb clau d'humor
LOCATION:08755 Castellbisbal
METHOD:PUBLISH
X-WR-CALNAME:comunicacio@castellbisbal.cat
X-WR-TIMEZONE:Europe/Madrid
DESCRIPTION:A partir de les 17.00 hores, a la Plaça de l'Església i de manera itinerant

URI:https://www.castellbisbal.cat/actualitat/agenda/corretapes-2024-cantada-amb-clau-dhumor.html
CLASS:PUBLIC
END:VEVENT
END:VCALENDAR
