BEGIN:VCALENDAR
VERSION:2.0
CALSCALE:GREGORIAN
PRODID:-//Diputació de Barcelona//DibaCMS//EN
BEGIN:VEVENT
UID:23031
DTSTAMP:20260424T192215
DTSTART:20240531T180000
DTEND:20240531T180000
SUMMARY:Corretapes 2024: Exhibició de balls urbans
LOCATION:08755 Castellbisbal
METHOD:PUBLISH
X-WR-CALNAME:comunicacio@castellbisbal.cat
X-WR-TIMEZONE:Europe/Madrid
DESCRIPTION:A les 18.00 hores, a la Plaça de l'Església

URI:https://www.castellbisbal.cat/actualitat/agenda/corretapes-2024-exhibicio-de-balls-urbans.html
CLASS:PUBLIC
END:VEVENT
END:VCALENDAR
