BEGIN:VCALENDAR
VERSION:2.0
CALSCALE:GREGORIAN
PRODID:-//Diputació de Barcelona//DibaCMS//EN
BEGIN:VEVENT
UID:23032
DTSTAMP:20260424T174821
DTSTART:20240531T190000
DTEND:20240531T190000
SUMMARY:Corretapes 2024: Passarel·la de moda
LOCATION:Plaça de l'Església 08755 Castellbisbal
METHOD:PUBLISH
X-WR-CALNAME:comunicacio@castellbisbal.cat
X-WR-TIMEZONE:Europe/Madrid
DESCRIPTION:A les 19.00 hores, al Pati de l'Esbarjo.

URI:https://www.castellbisbal.cat/actualitat/agenda/corretapes-2024-passarella-de-moda.html
CLASS:PUBLIC
END:VEVENT
END:VCALENDAR
