BEGIN:VCALENDAR
VERSION:2.0
CALSCALE:GREGORIAN
PRODID:-//Diputació de Barcelona//DibaCMS//EN
BEGIN:VEVENT
UID:23034
DTSTAMP:20260424T123950
DTSTART:20240601T200000
DTEND:20240601T200000
SUMMARY:Corretapes 2024: Música itinerant en directe
LOCATION:
METHOD:PUBLISH
X-WR-CALNAME:comunicacio@castellbisbal.cat
X-WR-TIMEZONE:Europe/Madrid
DESCRIPTION:Entre les 20.00 i les 23.00 hores, a les portes dels establiments participants al Corretapes 2024.

URI:https://www.castellbisbal.cat/actualitat/agenda/23034-corretapes-2024-musica-itinerant-en-directe.html
CLASS:PUBLIC
END:VEVENT
END:VCALENDAR
