BEGIN:VCALENDAR
VERSION:2.0
CALSCALE:GREGORIAN
PRODID:-//Diputació de Barcelona//DibaCMS//EN
BEGIN:VEVENT
UID:23038
DTSTAMP:20260424T154219
DTSTART:20240531T190000
DTEND:20240531T190000
SUMMARY:Supernit a les biblioteques
LOCATION:Av. de Pau Casals, 16 08755 Castellbisbal
METHOD:PUBLISH
X-WR-CALNAME:comunicacio@castellbisbal.cat
X-WR-TIMEZONE:Europe/Madrid
DESCRIPTION:A les 19.00 hores, a la Biblioteca Municipal Josep Mateu i Miró.

URI:https://www.castellbisbal.cat/actualitat/agenda/biblioteca/supernit-a-les-biblioteques.html
CLASS:PUBLIC
END:VEVENT
END:VCALENDAR
