BEGIN:VCALENDAR
VERSION:2.0
CALSCALE:GREGORIAN
PRODID:-//Diputació de Barcelona//DibaCMS//EN
BEGIN:VEVENT
UID:23039
DTSTAMP:20260424T014222
DTSTART:20240623T203000
DTEND:20240623T203000
SUMMARY:Revetlla de Sant Joan: arribada de la Flama del Canigó
LOCATION:
METHOD:PUBLISH
X-WR-CALNAME:comunicacio@castellbisbal.cat
X-WR-TIMEZONE:Europe/Madrid
DESCRIPTION:A partir de les 20.30 hores, a la Plaça Catalunya.

URI:https://www.castellbisbal.cat/actualitat/agenda/revetlla-de-sant-joan-arribada-de-la-flama-del-canigo.html
CLASS:PUBLIC
END:VEVENT
END:VCALENDAR
