BEGIN:VCALENDAR
VERSION:2.0
CALSCALE:GREGORIAN
PRODID:-//Diputació de Barcelona//DibaCMS//EN
BEGIN:VEVENT
UID:23040
DTSTAMP:20260419T185421
DTSTART:20240623T213000
DTEND:20240623T213000
SUMMARY:Revetlla de Sant Joan: Lectura del manifest i encesa de la foguera
LOCATION:Parc Folch i Torres 08755 Castellbisbal
METHOD:PUBLISH
X-WR-CALNAME:comunicacio@castellbisbal.cat
X-WR-TIMEZONE:Europe/Madrid
DESCRIPTION:A les 21.30 hores, al Parc Folch i Torres.

URI:https://www.castellbisbal.cat/actualitat/agenda/revetlla-de-sant-joan-lectura-del-manifest-i-encesa-de-la-foguera.html
CLASS:PUBLIC
END:VEVENT
END:VCALENDAR
