BEGIN:VCALENDAR
VERSION:2.0
CALSCALE:GREGORIAN
PRODID:-//Diputació de Barcelona//DibaCMS//EN
BEGIN:VEVENT
UID:23041
DTSTAMP:20260419T203321
DTSTART:20240623T220000
DTEND:20240623T220000
SUMMARY:Revetlla de Sant Joan: Sopar a la fresca
LOCATION:08755 Castellbisbal
METHOD:PUBLISH
X-WR-CALNAME:comunicacio@castellbisbal.cat
X-WR-TIMEZONE:Europe/Madrid
DESCRIPTION:A les 22.00 hores, a la Plaça de l'Església.

URI:https://www.castellbisbal.cat/actualitat/agenda/revetlla-de-sant-joan-sopar-a-la-fresca.html
CLASS:PUBLIC
END:VEVENT
END:VCALENDAR
