BEGIN:VCALENDAR
VERSION:2.0
CALSCALE:GREGORIAN
PRODID:-//Diputació de Barcelona//DibaCMS//EN
BEGIN:VEVENT
UID:23043
DTSTAMP:20260424T193516
DTSTART:20240624T190000
DTEND:20240624T190000
SUMMARY:Sant Joan: Ballada de sardanes amb la cobla Osona
LOCATION:08755 Castellbisbal
METHOD:PUBLISH
X-WR-CALNAME:comunicacio@castellbisbal.cat
X-WR-TIMEZONE:Europe/Madrid
DESCRIPTION:A les 19.00 hores, a la Plaça de l'Església.

URI:https://www.castellbisbal.cat/actualitat/agenda/sant-joan-ballada-de-sardanes-amb-la-cobla-osona.html
CLASS:PUBLIC
END:VEVENT
END:VCALENDAR
