BEGIN:VCALENDAR
VERSION:2.0
CALSCALE:GREGORIAN
PRODID:-//Diputació de Barcelona//DibaCMS//EN
BEGIN:VEVENT
UID:23046
DTSTAMP:20260419T161949
DTSTART:20240525T103000
DTEND:20240525T103000
SUMMARY:Explosió primaveral
LOCATION:Passeig del Torrent, 18-22 08755 Castellbisbal
METHOD:PUBLISH
X-WR-CALNAME:comunicacio@castellbisbal.cat
X-WR-TIMEZONE:Europe/Madrid
DESCRIPTION:De 10.30 a 23.00 hores, al local social Costablanca

URI:https://www.castellbisbal.cat/actualitat/agenda/explosio-primaveral.html
CLASS:PUBLIC
END:VEVENT
END:VCALENDAR
