BEGIN:VCALENDAR
VERSION:2.0
CALSCALE:GREGORIAN
PRODID:-//Diputació de Barcelona//DibaCMS//EN
BEGIN:VEVENT
UID:23048
DTSTAMP:20260424T194921
DTSTART:20240525T170000
DTEND:20240525T170000
SUMMARY: Demostració de Jocs de Rol
LOCATION:Passeig del Torrent, 18-22 08755 Castellbisbal
METHOD:PUBLISH
X-WR-CALNAME:comunicacio@castellbisbal.cat
X-WR-TIMEZONE:Europe/Madrid
DESCRIPTION:De 17.00 a 20.00 hores, al Local Social Costablanca

URI:https://www.castellbisbal.cat/actualitat/agenda/-demostracio-de-jocs-de-rol.html
CLASS:PUBLIC
END:VEVENT
END:VCALENDAR
