BEGIN:VCALENDAR
VERSION:2.0
CALSCALE:GREGORIAN
PRODID:-//Diputació de Barcelona//DibaCMS//EN
BEGIN:VEVENT
UID:23052
DTSTAMP:20260424T231317
DTSTART:20240526T163000
DTEND:20240526T183000
SUMMARY:Finals nacionals de la Lliga Catalana de Korfbal
LOCATION:C. Agricultura, s/n 08755 Castellbisbal
METHOD:PUBLISH
X-WR-CALNAME:comunicacio@castellbisbal.cat
X-WR-TIMEZONE:Europe/Madrid
DESCRIPTION:A partir de les 16.30 hores, a l'Illa Esportiva

URI:https://www.castellbisbal.cat/actualitat/agenda/finals-nacionals-de-la-lliga-catalana-de-korfbal.html
CLASS:PUBLIC
END:VEVENT
END:VCALENDAR
