BEGIN:VCALENDAR
VERSION:2.0
CALSCALE:GREGORIAN
PRODID:-//Diputació de Barcelona//DibaCMS//EN
BEGIN:VEVENT
UID:23056
DTSTAMP:20260423T045438
DTSTART:20240525T110000
DTEND:20240525T110000
SUMMARY:Top 4: Segona Catalana Infantil Mixta
LOCATION:C. Agricultura, s/n 08755 Castellbisbal
METHOD:PUBLISH
X-WR-CALNAME:comunicacio@castellbisbal.cat
X-WR-TIMEZONE:Europe/Madrid
DESCRIPTION:25 i 26 de maig, a dl'Illa Esportiva

URI:https://www.castellbisbal.cat/actualitat/agenda/top-4-segona-catalana-infantil-mixta.html
CLASS:PUBLIC
END:VEVENT
END:VCALENDAR
