BEGIN:VCALENDAR
VERSION:2.0
CALSCALE:GREGORIAN
PRODID:-//Diputació de Barcelona//DibaCMS//EN
BEGIN:VEVENT
UID:23067
DTSTAMP:20260423T045605
DTSTART:20240603T103000
DTEND:20240603T103000
SUMMARY:Dia Mundial sense tabac: "No et fumis la salut!"
LOCATION:
METHOD:PUBLISH
X-WR-CALNAME:comunicacio@castellbisbal.cat
X-WR-TIMEZONE:Europe/Madrid
DESCRIPTION:De 10.30 a 12.30 hores, al Mercat de Castellbisbal.

URI:https://www.castellbisbal.cat/actualitat/agenda/dia-mundial-sense-tabac-no-et-fumis-la-salut.html
CLASS:PUBLIC
END:VEVENT
END:VCALENDAR
