BEGIN:VCALENDAR
VERSION:2.0
CALSCALE:GREGORIAN
PRODID:-//Diputació de Barcelona//DibaCMS//EN
BEGIN:VEVENT
UID:23068
DTSTAMP:20260424T140841
DTSTART:20240530T180000
DTEND:20240530T180000
SUMMARY:Dia Mundial sense tabac: "Deixar de fumar: és fàcil?"
LOCATION:Av. Pau Casals, 12 08755 Castellbisbal
METHOD:PUBLISH
X-WR-CALNAME:comunicacio@castellbisbal.cat
X-WR-TIMEZONE:Europe/Madrid
DESCRIPTION:A les 18.00 hores, a la Sala d'Educació del CAP Doctor Joan Planas

URI:https://www.castellbisbal.cat/actualitat/agenda/dia-mundial-sense-tabac-deixar-de-fumar-es-facil.html
CLASS:PUBLIC
END:VEVENT
END:VCALENDAR
