BEGIN:VCALENDAR
VERSION:2.0
CALSCALE:GREGORIAN
PRODID:-//Diputació de Barcelona//DibaCMS//EN
BEGIN:VEVENT
UID:23080
DTSTAMP:20260423T111531
DTSTART:20240625T110000
DTEND:20240625T110000
SUMMARY:Estiu Jove: Taller de doblatge
LOCATION:Carrer Francesc Macià, 64 08755 Castellbisbal
METHOD:PUBLISH
X-WR-CALNAME:comunicacio@castellbisbal.cat
X-WR-TIMEZONE:Europe/Madrid
DESCRIPTION:D'11.00 a 13.00 hores, al Racó Jove.

URI:https://www.castellbisbal.cat/actualitat/agenda/estiu-jove-taller-de-doblatge.html
CLASS:PUBLIC
END:VEVENT
END:VCALENDAR
