BEGIN:VCALENDAR
VERSION:2.0
CALSCALE:GREGORIAN
PRODID:-//Diputació de Barcelona//DibaCMS//EN
BEGIN:VEVENT
UID:23085
DTSTAMP:20260423T143249
DTSTART:20240625T170000
DTEND:20240625T170000
SUMMARY:Estiu Jove: Taller de postres
LOCATION:Carrer Francesc Macià, 64 08755 Castellbisbal
METHOD:PUBLISH
X-WR-CALNAME:comunicacio@castellbisbal.cat
X-WR-TIMEZONE:Europe/Madrid
DESCRIPTION:De 17.00 a 19.30 hores, al Racó Jove.

URI:https://www.castellbisbal.cat/actualitat/agenda/estiu-jove-taller-de-postres.html
CLASS:PUBLIC
END:VEVENT
END:VCALENDAR
