BEGIN:VCALENDAR
VERSION:2.0
CALSCALE:GREGORIAN
PRODID:-//Diputació de Barcelona//DibaCMS//EN
BEGIN:VEVENT
UID:23088
DTSTAMP:20260423T082424
DTSTART:20240701T170000
DTEND:20240701T170000
SUMMARY:Estiu Jove: Taller de defensa personal femenina
LOCATION:Carrer Francesc Macià, 64 08755 Castellbisbal
METHOD:PUBLISH
X-WR-CALNAME:comunicacio@castellbisbal.cat
X-WR-TIMEZONE:Europe/Madrid
DESCRIPTION:De 17.00 a 18.30 hores, al Racó Jove.

URI:https://www.castellbisbal.cat/actualitat/agenda/23088-estiu-jove-taller-de-defensa-personal-femenina.html
CLASS:PUBLIC
END:VEVENT
END:VCALENDAR
