BEGIN:VCALENDAR
VERSION:2.0
CALSCALE:GREGORIAN
PRODID:-//Diputació de Barcelona//DibaCMS//EN
BEGIN:VEVENT
UID:23097
DTSTAMP:20260424T035520
DTSTART:20240702T110000
DTEND:20240702T110000
SUMMARY:Estiu Jove: Taller d'edició de foto i vídeo 
LOCATION:Carrer Francesc Macià, 64 08755 Castellbisbal
METHOD:PUBLISH
X-WR-CALNAME:comunicacio@castellbisbal.cat
X-WR-TIMEZONE:Europe/Madrid
DESCRIPTION:INSCRIPCIONS TANCADES

URI:https://www.castellbisbal.cat/actualitat/agenda/23097-estiu-jove-taller-dedicio-de-foto-i-video-.html
CLASS:PUBLIC
END:VEVENT
END:VCALENDAR
