BEGIN:VCALENDAR
VERSION:2.0
CALSCALE:GREGORIAN
PRODID:-//Diputació de Barcelona//DibaCMS//EN
BEGIN:VEVENT
UID:23104
DTSTAMP:20260423T035232
DTSTART:20240712T110000
DTEND:20240712T110000
SUMMARY:Estiu Jove: Taller de poesia creativa
LOCATION:Carrer Francesc Macià, 64 08755 Castellbisbal
METHOD:PUBLISH
X-WR-CALNAME:comunicacio@castellbisbal.cat
X-WR-TIMEZONE:Europe/Madrid
DESCRIPTION:INSCRIPCIONS TANCADES

URI:https://www.castellbisbal.cat/actualitat/agenda/23104-estiu-jove-taller-de-poesia-creativa.html
CLASS:PUBLIC
END:VEVENT
END:VCALENDAR
