BEGIN:VCALENDAR
VERSION:2.0
CALSCALE:GREGORIAN
PRODID:-//Diputació de Barcelona//DibaCMS//EN
BEGIN:VEVENT
UID:23110
DTSTAMP:20260423T113725
DTSTART:20240912T181500
DTEND:20240912T181500
SUMMARY:ÈCDISI: Reconnectem amb la natura de Castellbisbal
LOCATION:C. Major, 103 08755 Castellbisbal
METHOD:PUBLISH
X-WR-CALNAME:comunicacio@castellbisbal.cat
X-WR-TIMEZONE:Europe/Madrid
DESCRIPTION:A les 18.15 hores, a Can Margarit.

URI:https://www.castellbisbal.cat/actualitat/agenda/23110-ecdisi-reconnectem-amb-la-natura-de-castellbisbal.html
CLASS:PUBLIC
END:VEVENT
END:VCALENDAR
