BEGIN:VCALENDAR
VERSION:2.0
CALSCALE:GREGORIAN
PRODID:-//Diputació de Barcelona//DibaCMS//EN
BEGIN:VEVENT
UID:23119
DTSTAMP:20260425T053159
DTSTART:20240601T100000
DTEND:20240601T100000
SUMMARY:Xerrada aromateràpia
LOCATION:Passeig del Torrent, 18-22 08755 Castellbisbal
METHOD:PUBLISH
X-WR-CALNAME:comunicacio@castellbisbal.cat
X-WR-TIMEZONE:Europe/Madrid
DESCRIPTION:De 10.00 a 11.30 hores, al local social de Costablanca.

URI:https://www.castellbisbal.cat/actualitat/agenda/xerrada-aromaterapia.html
CLASS:PUBLIC
END:VEVENT
END:VCALENDAR
