BEGIN:VCALENDAR
VERSION:2.0
CALSCALE:GREGORIAN
PRODID:-//Diputació de Barcelona//DibaCMS//EN
BEGIN:VEVENT
UID:23120
DTSTAMP:20260423T092426
DTSTART:20240614T180000
DTEND:20240614T180000
SUMMARY:Romeria de la Casa de Andalucia
LOCATION:Can Pedrerol de Dalt 08755 Castellbisbal
METHOD:PUBLISH
X-WR-CALNAME:comunicacio@castellbisbal.cat
X-WR-TIMEZONE:Europe/Madrid
DESCRIPTION:Sortida a les 18.00 hores, fins a Can Pedrerol de Dalt

URI:https://www.castellbisbal.cat/actualitat/agenda/23120-romeria-de-la-casa-de-andalucia.html
CLASS:PUBLIC
END:VEVENT
END:VCALENDAR
