BEGIN:VCALENDAR
VERSION:2.0
CALSCALE:GREGORIAN
PRODID:-//Diputació de Barcelona//DibaCMS//EN
BEGIN:VEVENT
UID:23126
DTSTAMP:20260423T045859
DTSTART:20240613T190000
DTEND:20240613T190000
SUMMARY:Conferència: Com capturar la màgia de la natura amb la càmera de fotos
LOCATION:Av. de Pau Casals, 16 08755 Castellbisbal
METHOD:PUBLISH
X-WR-CALNAME:comunicacio@castellbisbal.cat
X-WR-TIMEZONE:Europe/Madrid
DESCRIPTION:A les 19.00 hores, a l'Espai Caterina Albert d'Els Costals.

URI:https://www.castellbisbal.cat/actualitat/agenda/biblioteca/conferencia-com-capturar-la-magia-de-la-natura-amb-la-camera-de-fotos.html
CLASS:PUBLIC
END:VEVENT
END:VCALENDAR
