BEGIN:VCALENDAR
VERSION:2.0
CALSCALE:GREGORIAN
PRODID:-//Diputació de Barcelona//DibaCMS//EN
BEGIN:VEVENT
UID:23130
DTSTAMP:20260423T062344
DTSTART:20240609T140000
DTEND:20240609T140000
SUMMARY:Dinar de fi de temporada
LOCATION:Av. de Pau Casals 7 08755 Castellbisbal
METHOD:PUBLISH
X-WR-CALNAME:comunicacio@castellbisbal.cat
X-WR-TIMEZONE:Europe/Madrid
DESCRIPTION:A partir de les 14.00 hores, al Casal Cultural i Recreatiu.

URI:https://www.castellbisbal.cat/actualitat/agenda/dinar-de-fi-de-temporada.html
CLASS:PUBLIC
END:VEVENT
END:VCALENDAR
