BEGIN:VCALENDAR
VERSION:2.0
CALSCALE:GREGORIAN
PRODID:-//Diputació de Barcelona//DibaCMS//EN
BEGIN:VEVENT
UID:23135
DTSTAMP:20260419T190441
DTSTART:20240617T160000
DTEND:20240628T130000
SUMMARY:Espai de Formació d'Adults: Matrícula curs 2024-2025
LOCATION:
METHOD:PUBLISH
X-WR-CALNAME:comunicacio@castellbisbal.cat
X-WR-TIMEZONE:Europe/Madrid
DESCRIPTION:Del 17 al 21 de juny, i del 25 al  28 de juny.

URI:https://www.castellbisbal.cat/actualitat/agenda/espai-de-formacio-dadults-matricula-curs-2024-2025.html
CLASS:PUBLIC
END:VEVENT
END:VCALENDAR
