BEGIN:VCALENDAR
VERSION:2.0
CALSCALE:GREGORIAN
PRODID:-//Diputació de Barcelona//DibaCMS//EN
BEGIN:VEVENT
UID:23136
DTSTAMP:20260424T031455
DTSTART:20240618T170000
DTEND:20240628T130000
SUMMARY:Espai de Formació d'Adults: Matrícula curs d'estiu
LOCATION:
METHOD:PUBLISH
X-WR-CALNAME:comunicacio@castellbisbal.cat
X-WR-TIMEZONE:Europe/Madrid
DESCRIPTION:Del 18 al 21 de juny, i del 25 al  28 de juny.

URI:https://www.castellbisbal.cat/actualitat/agenda/espai-de-formacio-dadults-matricula-curs-destiu.html
CLASS:PUBLIC
END:VEVENT
END:VCALENDAR
