BEGIN:VCALENDAR
VERSION:2.0
CALSCALE:GREGORIAN
PRODID:-//Diputació de Barcelona//DibaCMS//EN
BEGIN:VEVENT
UID:23139
DTSTAMP:20260423T044259
DTSTART:20240610T180000
DTEND:20240610T180000
SUMMARY:Jornada pel Dia Mundial de les Persones Refugiades
LOCATION:08755 Castellbisbal
METHOD:PUBLISH
X-WR-CALNAME:comunicacio@castellbisbal.cat
X-WR-TIMEZONE:Europe/Madrid
DESCRIPTION:A les 18.00 hores, a la Plaça de l'Església.

URI:https://www.castellbisbal.cat/actualitat/agenda/jornada-pel-dia-mundial-de-les-persones-refugiades.html
CLASS:PUBLIC
END:VEVENT
END:VCALENDAR
