BEGIN:VCALENDAR
VERSION:2.0
CALSCALE:GREGORIAN
PRODID:-//Diputació de Barcelona//DibaCMS//EN
BEGIN:VEVENT
UID:23164
DTSTAMP:20260423T011818
DTSTART:20240616T140000
DTEND:20240616T180000
SUMMARY:Romeria de la Casa de Andalucia
LOCATION:Can Pedrerol de Dalt 08755 Castellbisbal
METHOD:PUBLISH
X-WR-CALNAME:comunicacio@castellbisbal.cat
X-WR-TIMEZONE:Europe/Madrid
DESCRIPTION:A partir de les 14.00 hores, a Can Pedrerol de Dalt

URI:https://www.castellbisbal.cat/actualitat/agenda/23164-romeria-de-la-casa-de-andalucia.html
CLASS:PUBLIC
END:VEVENT
END:VCALENDAR
