BEGIN:VCALENDAR
VERSION:2.0
CALSCALE:GREGORIAN
PRODID:-//Diputació de Barcelona//DibaCMS//EN
BEGIN:VEVENT
UID:23166
DTSTAMP:20260423T032943
DTSTART:20240618T193000
DTEND:20240618T193000
SUMMARY:Actuació del cor de gòspel dels tallers del Casal de la Gent Gran
LOCATION:Plaça de l'Església 08755 Castellbisbal
METHOD:PUBLISH
X-WR-CALNAME:comunicacio@castellbisbal.cat
X-WR-TIMEZONE:Europe/Madrid
DESCRIPTION:A les 19.30 hores, al Pati de l'Esbarjo

URI:https://www.castellbisbal.cat/actualitat/agenda/actuacio-del-cor-de-gospel-dels-tallers-del-casal-de-la-gent-gran.html
CLASS:PUBLIC
END:VEVENT
END:VCALENDAR
