BEGIN:VCALENDAR
VERSION:2.0
CALSCALE:GREGORIAN
PRODID:-//Diputació de Barcelona//DibaCMS//EN
BEGIN:VEVENT
UID:23190
DTSTAMP:20260422T233341
DTSTART:20240713T183000
DTEND:20240713T224500
SUMMARY:16è Aplec de sardanes
LOCATION:08755 Castellbisbal
METHOD:PUBLISH
X-WR-CALNAME:comunicacio@castellbisbal.cat
X-WR-TIMEZONE:Europe/Madrid
DESCRIPTION:De 18.30 a 22.45 hores, a la Plaça de l'Església.

URI:https://www.castellbisbal.cat/actualitat/agenda/16e-aplec-de-sardanes.html
CLASS:PUBLIC
END:VEVENT
END:VCALENDAR
