BEGIN:VCALENDAR
VERSION:2.0
CALSCALE:GREGORIAN
PRODID:-//Diputació de Barcelona//DibaCMS//EN
BEGIN:VEVENT
UID:23200
DTSTAMP:20260423T075742
DTSTART:20240714T000000
DTEND:20240714T000000
SUMMARY: Mulla't per l'esclerosi múltiple
LOCATION:C. Agricultura, s/n 08755 Castellbisbal
METHOD:PUBLISH
X-WR-CALNAME:comunicacio@castellbisbal.cat
X-WR-TIMEZONE:Europe/Madrid
DESCRIPTION:De 10.00 a 15.00 hores, a la piscina d'estiu de l'Illa Esportiva

URI:https://www.castellbisbal.cat/actualitat/agenda/-mullat-per-lesclerosi-multiple.html
CLASS:PUBLIC
END:VEVENT
END:VCALENDAR
