BEGIN:VCALENDAR
VERSION:2.0
CALSCALE:GREGORIAN
PRODID:-//Diputació de Barcelona//DibaCMS//EN
BEGIN:VEVENT
UID:23206
DTSTAMP:20260424T210359
DTSTART:20240711T190000
DTEND:20240711T190000
SUMMARY:Xerrada: "Seguretat a la llar"
LOCATION:Avinguda de Pau Casals, 9 08755 Castellbisbal
METHOD:PUBLISH
X-WR-CALNAME:comunicacio@castellbisbal.cat
X-WR-TIMEZONE:Europe/Madrid
DESCRIPTION:A les 19.00 hores, a la Sala d'Actes de l'Ajunatment

URI:https://www.castellbisbal.cat/actualitat/agenda/23206-xerrada-seguretat-a-la-llar.html
CLASS:PUBLIC
END:VEVENT
END:VCALENDAR
