BEGIN:VCALENDAR
VERSION:2.0
CALSCALE:GREGORIAN
PRODID:-//Diputació de Barcelona//DibaCMS//EN
BEGIN:VEVENT
UID:23209
DTSTAMP:20260423T045727
DTSTART:20240718T180000
DTEND:20240718T180000
SUMMARY:Racó Jove: Torneig Ping-Pong
LOCATION:Carrer Francesc Macià, 64 08755 Castellbisbal
METHOD:PUBLISH
X-WR-CALNAME:comunicacio@castellbisbal.cat
X-WR-TIMEZONE:Europe/Madrid
DESCRIPTION:De 18.00 a 20.00 hores, al Racó Jove.

URI:https://www.castellbisbal.cat/actualitat/agenda/raco-jove-torneig-ping-pong.html
CLASS:PUBLIC
END:VEVENT
END:VCALENDAR
