BEGIN:VCALENDAR
VERSION:2.0
CALSCALE:GREGORIAN
PRODID:-//Diputació de Barcelona//DibaCMS//EN
BEGIN:VEVENT
UID:23211
DTSTAMP:20260422T221807
DTSTART:20240720T213000
DTEND:20240720T213000
SUMMARY:4a nocturna lluna plena
LOCATION:Parc Folch i Torres 08755 Castellbisbal
METHOD:PUBLISH
X-WR-CALNAME:comunicacio@castellbisbal.cat
X-WR-TIMEZONE:Europe/Madrid
DESCRIPTION:A les 21.30 hores, al Parc Folch i Torres.

URI:https://www.castellbisbal.cat/actualitat/agenda/4a-nocturna-lluna-plena.html
CLASS:PUBLIC
END:VEVENT
END:VCALENDAR
