BEGIN:VCALENDAR
VERSION:2.0
CALSCALE:GREGORIAN
PRODID:-//Diputació de Barcelona//DibaCMS//EN
BEGIN:VEVENT
UID:23216
DTSTAMP:20260423T064236
DTSTART:20240910T100000
DTEND:20240910T100000
SUMMARY:Inscripcions a les activitats de l'entitat de la Gent Gran
LOCATION:Carrer de Sant Joan, 2 08755 Castellbisbal
METHOD:PUBLISH
X-WR-CALNAME:comunicacio@castellbisbal.cat
X-WR-TIMEZONE:Europe/Madrid
DESCRIPTION:De 10.00 a 12.00 hores, al Casal de la Gent Gran.

URI:https://www.castellbisbal.cat/actualitat/agenda/23216-inscripcions-a-les-activitats-de-lentitat-de-la-gent-gran.html
CLASS:PUBLIC
END:VEVENT
END:VCALENDAR
