BEGIN:VCALENDAR
VERSION:2.0
CALSCALE:GREGORIAN
PRODID:-//Diputació de Barcelona//DibaCMS//EN
BEGIN:VEVENT
UID:23219
DTSTAMP:20260423T082315
DTSTART:20240713T190000
DTEND:20240713T190000
SUMMARY:Monòleg: Manolito "El Gafas"
LOCATION:Carrer Montjuic, 14-20 08755 Castellbisbal
METHOD:PUBLISH
X-WR-CALNAME:comunicacio@castellbisbal.cat
X-WR-TIMEZONE:Europe/Madrid
DESCRIPTION:A les 19.00 hores, al centre cívic de Can Santeugini.

URI:https://www.castellbisbal.cat/actualitat/agenda/monoleg-manolito-el-gafas.html
CLASS:PUBLIC
END:VEVENT
END:VCALENDAR
