BEGIN:VCALENDAR
VERSION:2.0
CALSCALE:GREGORIAN
PRODID:-//Diputació de Barcelona//DibaCMS//EN
BEGIN:VEVENT
UID:23232
DTSTAMP:20260423T043448
DTSTART:20240712T180000
DTEND:20240712T180000
SUMMARY:Festa de la diversitat
LOCATION:Plaça de l'Església 08755 Castellbisbal
METHOD:PUBLISH
X-WR-CALNAME:comunicacio@castellbisbal.cat
X-WR-TIMEZONE:Europe/Madrid
DESCRIPTION:De 18.00 a 20.00 hores, al Pati de l'Esbarjo

URI:https://www.castellbisbal.cat/actualitat/agenda/festa-de-la-diversitat.html
CLASS:PUBLIC
END:VEVENT
END:VCALENDAR
