BEGIN:VCALENDAR
VERSION:2.0
CALSCALE:GREGORIAN
PRODID:-//Diputació de Barcelona//DibaCMS//EN
BEGIN:VEVENT
UID:23238
DTSTAMP:20260423T082547
DTSTART:20240714T210000
DTEND:20240714T210000
SUMMARY:Final de l'Eurocopa masculina de futbol
LOCATION:Parc Folch i Torres 08755 Castellbisbal
METHOD:PUBLISH
X-WR-CALNAME:comunicacio@castellbisbal.cat
X-WR-TIMEZONE:Europe/Madrid
DESCRIPTION:A les 21.00 hores, al parc de Folch i Torres

URI:https://www.castellbisbal.cat/actualitat/agenda/final-de-leurocopa-masculina-de-futbol.html
CLASS:PUBLIC
END:VEVENT
END:VCALENDAR
