BEGIN:VCALENDAR
VERSION:2.0
CALSCALE:GREGORIAN
PRODID:-//Diputació de Barcelona//DibaCMS//EN
BEGIN:VEVENT
UID:23251
DTSTAMP:20260423T192014
DTSTART:20240816T180000
DTEND:20240816T180000
SUMMARY:Festa Major de l'Aigua i la Llum: Arribada de l'Aigua i la Llum
LOCATION:C. Major, 103 08755 Castellbisbal
METHOD:PUBLISH
X-WR-CALNAME:comunicacio@castellbisbal.cat
X-WR-TIMEZONE:Europe/Madrid
DESCRIPTION:A les 18.00 hores, des de Can Margarit

URI:https://www.castellbisbal.cat/actualitat/agenda/festa-major-de-laigua-i-la-llum-arribada-de-laigua-i-la-llum.html
CLASS:PUBLIC
END:VEVENT
END:VCALENDAR
