BEGIN:VCALENDAR
VERSION:2.0
CALSCALE:GREGORIAN
PRODID:-//Diputació de Barcelona//DibaCMS//EN
BEGIN:VEVENT
UID:23252
DTSTAMP:20260423T161119
DTSTART:20240816T190000
DTEND:20240816T190000
SUMMARY:Festa Major de l'Aigua i la Llum: Mostra de la imatgeria festiva
LOCATION:Plaça del Joc 08755 Castellbisbal
METHOD:PUBLISH
X-WR-CALNAME:comunicacio@castellbisbal.cat
X-WR-TIMEZONE:Europe/Madrid
DESCRIPTION:A les 19.00 hores, a la Plaça del Joc

URI:https://www.castellbisbal.cat/actualitat/agenda/festa-major-de-laigua-i-la-llum-mostra-de-la-imatgeria-festiva.html
CLASS:PUBLIC
END:VEVENT
END:VCALENDAR
