BEGIN:VCALENDAR
VERSION:2.0
CALSCALE:GREGORIAN
PRODID:-//Diputació de Barcelona//DibaCMS//EN
BEGIN:VEVENT
UID:23253
DTSTAMP:20260424T175725
DTSTART:20240816T190000
DTEND:20240816T190000
SUMMARY:Festa Major de l'Aigua i la Llum: L'Encetada
LOCATION:Plaça del Joc 08755 Castellbisbal
METHOD:PUBLISH
X-WR-CALNAME:comunicacio@castellbisbal.cat
X-WR-TIMEZONE:Europe/Madrid
DESCRIPTION:A les 19.00 hores, des de la Plaça del Joc amb final a la Plaça de l'Església

URI:https://www.castellbisbal.cat/actualitat/agenda/festa-major-de-laigua-i-la-llum-lencetada.html
CLASS:PUBLIC
END:VEVENT
END:VCALENDAR
