BEGIN:VCALENDAR
VERSION:2.0
CALSCALE:GREGORIAN
PRODID:-//Diputació de Barcelona//DibaCMS//EN
BEGIN:VEVENT
UID:23254
DTSTAMP:20260423T021611
DTSTART:20240816T203000
DTEND:20240816T203000
SUMMARY:Festa Major de l'Aigua i la Llum: Teatre de Festa Major
LOCATION:Av. de Pau Casals, 16 08755 Castellbisbal
METHOD:PUBLISH
X-WR-CALNAME:comunicacio@castellbisbal.cat
X-WR-TIMEZONE:Europe/Madrid
DESCRIPTION:A les 20.30 hores, a l'Auditori d'Els Costals

URI:https://www.castellbisbal.cat/actualitat/agenda/festa-major-de-laigua-i-la-llum-teatre-de-festa-major.html
CLASS:PUBLIC
END:VEVENT
END:VCALENDAR
