BEGIN:VCALENDAR
VERSION:2.0
CALSCALE:GREGORIAN
PRODID:-//Diputació de Barcelona//DibaCMS//EN
BEGIN:VEVENT
UID:23257
DTSTAMP:20260422T224419
DTSTART:20240817T000000
DTEND:20240817T000000
SUMMARY:Festa Major de l'Aigua i la Llum: Concert amb Ebri Knight
LOCATION:Parc Folch i Torres 08755 Castellbisbal
METHOD:PUBLISH
X-WR-CALNAME:comunicacio@castellbisbal.cat
X-WR-TIMEZONE:Europe/Madrid
DESCRIPTION:A les 00.00 hores, a l'envelat del parc Folch i Torres

URI:https://www.castellbisbal.cat/actualitat/agenda/festa-major-de-laigua-i-la-llum-concert-amb-ebri-knight.html
CLASS:PUBLIC
END:VEVENT
END:VCALENDAR
