BEGIN:VCALENDAR
VERSION:2.0
CALSCALE:GREGORIAN
PRODID:-//Diputació de Barcelona//DibaCMS//EN
BEGIN:VEVENT
UID:23259
DTSTAMP:20260423T164803
DTSTART:20240817T100000
DTEND:20240817T100000
SUMMARY:Festa Major de l'Aigua i la Llum: L'ofici dels Tres Tombs
LOCATION:
METHOD:PUBLISH
X-WR-CALNAME:comunicacio@castellbisbal.cat
X-WR-TIMEZONE:Europe/Madrid
DESCRIPTION:A les 10.00 hores, a la quadra dels Amics de Sant Antoni, al costat dels Horts Urbans

URI:https://www.castellbisbal.cat/actualitat/agenda/festa-major-de-laigua-i-la-llum-lofici-dels-tres-tombs.html
CLASS:PUBLIC
END:VEVENT
END:VCALENDAR
