BEGIN:VCALENDAR
VERSION:2.0
CALSCALE:GREGORIAN
PRODID:-//Diputació de Barcelona//DibaCMS//EN
BEGIN:VEVENT
UID:23260
DTSTAMP:20260424T010219
DTSTART:20240817T100000
DTEND:20240817T100000
SUMMARY:Festa Major de l'Aigua i la Llum: Esmorzar i campionat de tir al plat
LOCATION:
METHOD:PUBLISH
X-WR-CALNAME:comunicacio@castellbisbal.cat
X-WR-TIMEZONE:Europe/Madrid
DESCRIPTION:A les 10.00 hores, al Camp de tir de la Verdolaga

URI:https://www.castellbisbal.cat/actualitat/agenda/festa-major-de-laigua-i-la-llum-esmorzar-i-campionat-de-tir-al-plat.html
CLASS:PUBLIC
END:VEVENT
END:VCALENDAR
